BEGIN:VCALENDAR
VERSION:2.0
PRODID:-//Comité de Jumelages du Vésinet - ECPv6.15.20//NONSGML v1.0//EN
CALSCALE:GREGORIAN
METHOD:PUBLISH
X-WR-CALNAME:Comité de Jumelages du Vésinet
X-ORIGINAL-URL:https://jumelageslevesinet.com
X-WR-CALDESC:Évènements pour Comité de Jumelages du Vésinet
REFRESH-INTERVAL;VALUE=DURATION:PT1H
X-Robots-Tag:noindex
X-PUBLISHED-TTL:PT1H
BEGIN:VTIMEZONE
TZID:Europe/Paris
BEGIN:DAYLIGHT
TZOFFSETFROM:+0100
TZOFFSETTO:+0200
TZNAME:CEST
DTSTART:20240331T010000
END:DAYLIGHT
BEGIN:STANDARD
TZOFFSETFROM:+0200
TZOFFSETTO:+0100
TZNAME:CET
DTSTART:20241027T010000
END:STANDARD
BEGIN:DAYLIGHT
TZOFFSETFROM:+0100
TZOFFSETTO:+0200
TZNAME:CEST
DTSTART:20250330T010000
END:DAYLIGHT
BEGIN:STANDARD
TZOFFSETFROM:+0200
TZOFFSETTO:+0100
TZNAME:CET
DTSTART:20251026T010000
END:STANDARD
BEGIN:DAYLIGHT
TZOFFSETFROM:+0100
TZOFFSETTO:+0200
TZNAME:CEST
DTSTART:20260329T010000
END:DAYLIGHT
BEGIN:STANDARD
TZOFFSETFROM:+0200
TZOFFSETTO:+0100
TZNAME:CET
DTSTART:20261025T010000
END:STANDARD
END:VTIMEZONE
BEGIN:VEVENT
DTSTART;VALUE=DATE:20251111
DTEND;VALUE=DATE:20251112
DTSTAMP:20260424T123303
CREATED:20251030T082057Z
LAST-MODIFIED:20251031T224405Z
UID:16828-1762819200-1762905599@jumelageslevesinet.com
SUMMARY:Commémorations du 11 Novembre 2025
DESCRIPTION:Commémorations en souvenir de la signature de l’armistice\, mettant fin le 11 Novembre 1918 à la première guerre mondiale. \nA cette occasion\, une gerbe de fleurs est déposée au Vésinet par un représentant de la mairie d’Unterhaching.
URL:https://jumelageslevesinet.com/event/11-novembre-2025/
LOCATION:Ville du Vésinet\, Le Vésinet\, Yvelines\, 78110\, France
CATEGORIES:Commémoration
END:VEVENT
BEGIN:VEVENT
DTSTART;VALUE=DATE:20251116
DTEND;VALUE=DATE:20251117
DTSTAMP:20260424T123303
CREATED:20251030T082257Z
LAST-MODIFIED:20251031T225453Z
UID:16831-1763251200-1763337599@jumelageslevesinet.com
SUMMARY:Journée du Souvenir - Volkstrauertag 2025
DESCRIPTION:Le Volkstrauertag ou Journée du Souvenir aura lieu cette année le 16 novembre 2025. \nLa ville du Vésinet\, représentée par Mr Ludovic Maetz\, adjoint au maire et par Edith Fischof pour le Comité de Jumelages déposeront une gerbe à Unterhaching à cette occasion.
URL:https://jumelageslevesinet.com/event/volkstrauertag-2025/
LOCATION:Unterhaching\, Unterhaching\, Allemagne
CATEGORIES:Commémoration
END:VEVENT
END:VCALENDAR