BEGIN:VCALENDAR
VERSION:2.0
PRODID:-//Comité de Jumelages du Vésinet - ECPv6.15.20//NONSGML v1.0//EN
CALSCALE:GREGORIAN
METHOD:PUBLISH
X-ORIGINAL-URL:https://jumelageslevesinet.com
X-WR-CALDESC:Évènements pour Comité de Jumelages du Vésinet
REFRESH-INTERVAL;VALUE=DURATION:PT1H
X-Robots-Tag:noindex
X-PUBLISHED-TTL:PT1H
BEGIN:VTIMEZONE
TZID:Europe/Paris
BEGIN:DAYLIGHT
TZOFFSETFROM:+0100
TZOFFSETTO:+0200
TZNAME:CEST
DTSTART:20250330T010000
END:DAYLIGHT
BEGIN:STANDARD
TZOFFSETFROM:+0200
TZOFFSETTO:+0100
TZNAME:CET
DTSTART:20251026T010000
END:STANDARD
BEGIN:DAYLIGHT
TZOFFSETFROM:+0100
TZOFFSETTO:+0200
TZNAME:CEST
DTSTART:20260329T010000
END:DAYLIGHT
BEGIN:STANDARD
TZOFFSETFROM:+0200
TZOFFSETTO:+0100
TZNAME:CET
DTSTART:20261025T010000
END:STANDARD
BEGIN:DAYLIGHT
TZOFFSETFROM:+0100
TZOFFSETTO:+0200
TZNAME:CEST
DTSTART:20270328T010000
END:DAYLIGHT
BEGIN:STANDARD
TZOFFSETFROM:+0200
TZOFFSETTO:+0100
TZNAME:CET
DTSTART:20271031T010000
END:STANDARD
END:VTIMEZONE
BEGIN:VEVENT
DTSTART;TZID=Europe/Paris:20260331T193000
DTEND;TZID=Europe/Paris:20260331T220000
DTSTAMP:20260420T104128
CREATED:20250215T082057Z
LAST-MODIFIED:20260326T230547Z
UID:17142-1774985400-1774994400@jumelageslevesinet.com
SUMMARY:Conseil d'administration du Comité de Jumelages - 31 Mars 2026
DESCRIPTION:Conseil d’Administration du Comité de Jumelages le Mardi 31 mars de 19h30 à 22h  salle Joséphine Baker
URL:https://jumelageslevesinet.com/event/ca-2026/
LOCATION:Mairie du Vésinet\, 60 bd Carnot\, Le Vésinet\, Ile de France\, 78110\, France
CATEGORIES:Conseil d'Administration
ORGANIZER;CN="Comit%C3%A9 de Jumelages":MAILTO:jumelages.levesinet@gmail.com
END:VEVENT
END:VCALENDAR