BEGIN:VCALENDAR
VERSION:2.0
PRODID:-//Comité de Jumelages du Vésinet - ECPv6.15.20//NONSGML v1.0//EN
CALSCALE:GREGORIAN
METHOD:PUBLISH
X-WR-CALNAME:Comité de Jumelages du Vésinet
X-ORIGINAL-URL:https://jumelageslevesinet.com
X-WR-CALDESC:Évènements pour Comité de Jumelages du Vésinet
REFRESH-INTERVAL;VALUE=DURATION:PT1H
X-Robots-Tag:noindex
X-PUBLISHED-TTL:PT1H
BEGIN:VTIMEZONE
TZID:Europe/Paris
BEGIN:DAYLIGHT
TZOFFSETFROM:+0100
TZOFFSETTO:+0200
TZNAME:CEST
DTSTART:20250330T010000
END:DAYLIGHT
BEGIN:STANDARD
TZOFFSETFROM:+0200
TZOFFSETTO:+0100
TZNAME:CET
DTSTART:20251026T010000
END:STANDARD
BEGIN:DAYLIGHT
TZOFFSETFROM:+0100
TZOFFSETTO:+0200
TZNAME:CEST
DTSTART:20260329T010000
END:DAYLIGHT
BEGIN:STANDARD
TZOFFSETFROM:+0200
TZOFFSETTO:+0100
TZNAME:CET
DTSTART:20261025T010000
END:STANDARD
BEGIN:DAYLIGHT
TZOFFSETFROM:+0100
TZOFFSETTO:+0200
TZNAME:CEST
DTSTART:20270328T010000
END:DAYLIGHT
BEGIN:STANDARD
TZOFFSETFROM:+0200
TZOFFSETTO:+0100
TZNAME:CET
DTSTART:20271031T010000
END:STANDARD
END:VTIMEZONE
BEGIN:VEVENT
DTSTART;TZID=Europe/Paris:20260530T113000
DTEND;TZID=Europe/Paris:20260530T140000
DTSTAMP:20260420T121834
CREATED:20260113T100042Z
LAST-MODIFIED:20260113T204031Z
UID:17072-1780140600-1780149600@jumelageslevesinet.com
SUMMARY:Fiesta espagnole 2026
DESCRIPTION:Apéritif-buffet avec des produits espagnols\, dans le cadre du 20ème anniversaire du jumelage avec Villanueva de la Cañada \nAffiche de la fiesta espagnole 2026
URL:https://jumelageslevesinet.com/event/fiesta-espagnole-2026/
LOCATION:Place du marché\, Place du Marché\, Le Vésinet\, 78110\, France
CATEGORIES:Fête
ORGANIZER;CN="Comit%C3%A9 de Jumelages":MAILTO:jumelages.levesinet@gmail.com
END:VEVENT
END:VCALENDAR