BEGIN:VCALENDAR
VERSION:2.0
PRODID:-//Comité de Jumelages du Vésinet - ECPv6.15.20//NONSGML v1.0//EN
CALSCALE:GREGORIAN
METHOD:PUBLISH
X-ORIGINAL-URL:https://jumelageslevesinet.com
X-WR-CALDESC:Évènements pour Comité de Jumelages du Vésinet
REFRESH-INTERVAL;VALUE=DURATION:PT1H
X-Robots-Tag:noindex
X-PUBLISHED-TTL:PT1H
BEGIN:VTIMEZONE
TZID:Europe/Paris
BEGIN:DAYLIGHT
TZOFFSETFROM:+0100
TZOFFSETTO:+0200
TZNAME:CEST
DTSTART:20240331T010000
END:DAYLIGHT
BEGIN:STANDARD
TZOFFSETFROM:+0200
TZOFFSETTO:+0100
TZNAME:CET
DTSTART:20241027T010000
END:STANDARD
BEGIN:DAYLIGHT
TZOFFSETFROM:+0100
TZOFFSETTO:+0200
TZNAME:CEST
DTSTART:20250330T010000
END:DAYLIGHT
BEGIN:STANDARD
TZOFFSETFROM:+0200
TZOFFSETTO:+0100
TZNAME:CET
DTSTART:20251026T010000
END:STANDARD
BEGIN:DAYLIGHT
TZOFFSETFROM:+0100
TZOFFSETTO:+0200
TZNAME:CEST
DTSTART:20260329T010000
END:DAYLIGHT
BEGIN:STANDARD
TZOFFSETFROM:+0200
TZOFFSETTO:+0100
TZNAME:CET
DTSTART:20261025T010000
END:STANDARD
END:VTIMEZONE
BEGIN:VEVENT
DTSTART;TZID=Europe/Paris:20251001T143000
DTEND;TZID=Europe/Paris:20251001T163000
DTSTAMP:20260420T144841
CREATED:20250109T143057Z
LAST-MODIFIED:20250109T220209Z
UID:15994-1759329000-1759336200@jumelageslevesinet.com
SUMMARY:Permanence du Comité de Jumelages à la mairie - 1er Octobre 2025
DESCRIPTION:Permanence du Comité de Jumelages dans notre local à la mairie du Vésinet –  60 Bd Carnot –  de 14h30 à 16h30
URL:https://jumelageslevesinet.com/event/permanence_octobre-2025/
LOCATION:Mairie du Vésinet\, 60 bd Carnot\, Le Vésinet\, Ile de France\, 78110\, France
CATEGORIES:Permanence
ORGANIZER;CN="Comit%C3%A9 de Jumelages":MAILTO:jumelages.levesinet@gmail.com
END:VEVENT
BEGIN:VEVENT
DTSTART;VALUE=DATE:20251010
DTEND;VALUE=DATE:20251013
DTSTAMP:20260420T144841
CREATED:20250913T133057Z
LAST-MODIFIED:20250914T211304Z
UID:16617-1760054400-1760313599@jumelageslevesinet.com
SUMMARY:Rencontre de 15 à 20  Vétérans  du VSCI vs les équipes de FORTUNA  à Unterhaching 
DESCRIPTION:Accompagné par Edith Fischof\, Présidente du Comité de Jumelages\, un groupe de 15 à 20 Vétérans du VSCI se rendra à Unterhaching pour des rencontres amicales avec les équipes du club de foot FORTUNA. \nProgramme du séjour\n 
URL:https://jumelageslevesinet.com/event/veterans-vsci_octobre-2025/
LOCATION:Unterhaching\, Unterhaching\, Allemagne
CATEGORIES:Manifestation
ORGANIZER;CN="Comit%C3%A9 de Jumelages":MAILTO:jumelages.levesinet@gmail.com
END:VEVENT
BEGIN:VEVENT
DTSTART;VALUE=DATE:20251024
DTEND;VALUE=DATE:20251026
DTSTAMP:20260420T144841
CREATED:20250913T133057Z
LAST-MODIFIED:20250914T162644Z
UID:16578-1761264000-1761436799@jumelageslevesinet.com
SUMMARY:Célébration du 50ème anniversaire du jumelage avec Outremont
DESCRIPTION:Une délégation de vésigondins se rendra à Outremont pour les Célébrations du 50eme anniversaire du jumelage\, à compter du 24 Octobre avec le traditionnel souper d’huîtres.
URL:https://jumelageslevesinet.com/event/anniversaire-outremont_octobre-2025/
LOCATION:Outremont\, Montréal\, Outremont\, Montreal\, Quebec\, Canada
CATEGORIES:Manifestation
END:VEVENT
END:VCALENDAR