BEGIN:VCALENDAR
VERSION:2.0
PRODID:-//Comité de Jumelages du Vésinet - ECPv6.15.20//NONSGML v1.0//EN
CALSCALE:GREGORIAN
METHOD:PUBLISH
X-ORIGINAL-URL:https://jumelageslevesinet.com
X-WR-CALDESC:Évènements pour Comité de Jumelages du Vésinet
REFRESH-INTERVAL;VALUE=DURATION:PT1H
X-Robots-Tag:noindex
X-PUBLISHED-TTL:PT1H
BEGIN:VTIMEZONE
TZID:Europe/Paris
BEGIN:DAYLIGHT
TZOFFSETFROM:+0100
TZOFFSETTO:+0200
TZNAME:CEST
DTSTART:20250330T010000
END:DAYLIGHT
BEGIN:STANDARD
TZOFFSETFROM:+0200
TZOFFSETTO:+0100
TZNAME:CET
DTSTART:20251026T010000
END:STANDARD
BEGIN:DAYLIGHT
TZOFFSETFROM:+0100
TZOFFSETTO:+0200
TZNAME:CEST
DTSTART:20260329T010000
END:DAYLIGHT
BEGIN:STANDARD
TZOFFSETFROM:+0200
TZOFFSETTO:+0100
TZNAME:CET
DTSTART:20261025T010000
END:STANDARD
BEGIN:DAYLIGHT
TZOFFSETFROM:+0100
TZOFFSETTO:+0200
TZNAME:CEST
DTSTART:20270328T010000
END:DAYLIGHT
BEGIN:STANDARD
TZOFFSETFROM:+0200
TZOFFSETTO:+0100
TZNAME:CET
DTSTART:20271031T010000
END:STANDARD
END:VTIMEZONE
BEGIN:VEVENT
DTSTART;TZID=Europe/Paris:20260107T143000
DTEND;TZID=Europe/Paris:20260107T163000
DTSTAMP:20260420T101325
CREATED:20260107T093057Z
LAST-MODIFIED:20260113T101132Z
UID:17052-1767796200-1767803400@jumelageslevesinet.com
SUMMARY:Permanence du Comité de Jumelages à la mairie - 7 Janvier 2026
DESCRIPTION:Permanence du Comité de Jumelages dans notre local à la mairie du Vésinet –  60 Bd Carnot –  de 14h30 à 16h30
URL:https://jumelageslevesinet.com/event/permanence_janvier-2026/
LOCATION:Mairie du Vésinet\, 60 bd Carnot\, Le Vésinet\, Ile de France\, 78110\, France
CATEGORIES:Permanence
ORGANIZER;CN="Comit%C3%A9 de Jumelages":MAILTO:jumelages.levesinet@gmail.com
END:VEVENT
BEGIN:VEVENT
DTSTART;TZID=Europe/Paris:20260112T180000
DTEND;TZID=Europe/Paris:20260112T200000
DTSTAMP:20260420T101325
CREATED:20260110T163057Z
LAST-MODIFIED:20260113T105107Z
UID:17067-1768240800-1768248000@jumelageslevesinet.com
SUMMARY:Galette des rois du Comité de Jumelages : lundi 12 Janvier 2026
DESCRIPTION:Galette des rois du Comité de Jumelages\, le lundi 12 Janvier 2026 à partir de 18h00\nRetrouvons nous à la mairie\, salle Joséphine Baker pour un moment de gourmandise et convivialité pour bien commencer l’année 2026 ! \n  \n 
URL:https://jumelageslevesinet.com/event/galette-des-rois-janvier-2026/
LOCATION:Mairie du Vésinet\, 60 bd Carnot\, Le Vésinet\, Ile de France\, 78110\, France
CATEGORIES:Fête
ORGANIZER;CN="Comit%C3%A9 de Jumelages":MAILTO:jumelages.levesinet@gmail.com
END:VEVENT
BEGIN:VEVENT
DTSTART;TZID=Europe/Paris:20260129T190000
DTEND;TZID=Europe/Paris:20260129T200000
DTSTAMP:20260420T101325
CREATED:20260112T083057Z
LAST-MODIFIED:20260113T101623Z
UID:17058-1769713200-1769716800@jumelageslevesinet.com
SUMMARY:Stammtisch Unterhaching-Le Vesinet en Français - 29 Janvier 2026
DESCRIPTION:Stammtisch avec nos amis bavarois d’Unterhaching –  en français- le 29 Janvier 2026 – de 19h00 à 20h00 \nThème à confirmer \nLien pour se connecter : \nhttps://us02web.zoom.us/j/86780094913?pwd=RXViUEhBc08yYVhlakk5eUYrd0prQT09 \n 
URL:https://jumelageslevesinet.com/event/stammtisch_jan-2026/
LOCATION:Visioconférence
CATEGORIES:Échange
ORGANIZER;CN="Comit%C3%A9 de Jumelages":MAILTO:jumelages.levesinet@gmail.com
END:VEVENT
END:VCALENDAR